BEGIN:VCALENDAR
VERSION:2.0
PRODID:-//Union Des Femmes - ECPv6.15.20//NONSGML v1.0//EN
CALSCALE:GREGORIAN
METHOD:PUBLISH
X-ORIGINAL-URL:https://uniondesfemmesmartinique.com
X-WR-CALDESC:Évènements pour Union Des Femmes
REFRESH-INTERVAL;VALUE=DURATION:PT1H
X-Robots-Tag:noindex
X-PUBLISHED-TTL:PT1H
BEGIN:VTIMEZONE
TZID:America/Martinique
BEGIN:STANDARD
TZOFFSETFROM:-0400
TZOFFSETTO:-0400
TZNAME:AST
DTSTART:20230101T000000
END:STANDARD
END:VTIMEZONE
BEGIN:VEVENT
DTSTART;VALUE=DATE:20251125
DTEND;VALUE=DATE:20251202
DTSTAMP:20260425T065728
CREATED:20251125T153821Z
LAST-MODIFIED:20251125T153857Z
UID:31214-1764028800-1764633599@uniondesfemmesmartinique.com
SUMMARY:Campagne Violence - Piès Violans Kont Fanm
DESCRIPTION:L’Union des Femmes de Martinique s’engage cette année aux côtés de plusieurs organisations pour la Campagne Violence 2025 : Culture Égalité\, Konbit et Mouvement du Nid.Cette action collective a pour objectif de sensibiliser\, informer et mobiliser autour des violences faites aux femmes\, à travers une série d’événements ouverts au public. \n\nProgramme des actions\n\nMardi 25 novembre\n8h – 10h : Atelier de découverte pour les professionnelles\nEn partenariat avec le CMAVI (lieu : Maison de Solange\, 58 Rue Isambert\, Fort-de-France 97200\, Martinique). \n11h – 16h : Portes ouvertes\nDans nos structures MDS et EJL. \nMobilisation collective militante\nEn rue piétonne\, avec l’ensemble des organisations du collectif. \n\nMercredi 26 novembre\nPortes ouvertes – France Travail (Lorrain) \nRaid des Alizés – Départ officielDistillerie Depaz – Saint-PierreL’équipe PLI BEL LAVI porte fièrement les couleurs de l’UFM. \n\nVendredi 28 novembre\nForum des associations – Campus de Schoelcher🕗 8h – 12h \n\nSamedi 29 novembre\nSemi-marathon – Stand d’information UFM⏱️ Horaires à confirmer \nRaid des Alizés – Arrivée et accueil de l’équipe PLI BEL LAVI \nRencontre littéraire avec Nicole Cage & Mappie« Il a volé mon corps »📍 Le Bayou🕔 17h – Entrée gratuite \n\nLundi 1er décembre – Clôture de la campagne\nRDV RADIO – Martinique PremièreÉmission Mieux vaut le savoir\, présentée par Fédérika🕙 10h – 11hThème : prise en charge des auteurs et victimes de violences (UFM – ALEFPA)
URL:https://uniondesfemmesmartinique.com/evenement/31214/
END:VEVENT
BEGIN:VEVENT
DTSTART;TZID=America/Martinique:20251121T180000
DTEND;TZID=America/Martinique:20251121T200000
DTSTAMP:20260425T065728
CREATED:20251121T110751Z
LAST-MODIFIED:20251121T110751Z
UID:31197-1763748000-1763755200@uniondesfemmesmartinique.com
SUMMARY:An ti Kozé – Vivre une sexualité épanouie – Afterwork UFM
DESCRIPTION:Afterwork UFM – Vendredi 21 novembre | 18h–20h | La Terrasse FWI \nL’Union des Femmes de Martinique organise un nouvel afterwork An ti Kozé\, un espace bienveillant d’échanges et de discussion entre femmes autour de sujets essentiels qui touchent à nos vies\, nos corps\, notre santé et nos parcours. \nPour cette édition\, nous vous invitons à un temps de partage autour du thème :« Vivre une sexualité épanouie »\,animé par Line Narbonnais\, sexothérapeute et fondatrice de Vibes and Sens Therapy. \n\nUn moment pour se reconnecter à soi\nLors de cette conférence-atelier\, les participantes seront invitées à explorer en douceur : \n\n\nleur relation au plaisir et à la sensualité\, \n\n\nles tabous et croyances héritées\, \n\n\nleur langage du plaisir\, \n\n\nleur rapport intime au corps. \n\n\nUn espace chaleureux\, bienveillant et ancré dans notre culture martiniquaise\, pour libérer la parole et avancer ensemble vers une sexualité plus sereine\, consciente et épanouie. \n\nInfos pratiques\n📍 La Terrasse FWIImmeuble Galeries Lafayette – Fort-de-France \n🕕 Vendredi 21 novembre18h → 20h \n👩‍🧡 Événement réservé aux femmes \n🥤 1 consommation obligatoire \n🎟️ Cagnotte solidaire – soutien aux actions de l’UFM \n\nPourquoi An ti Kozé ?\nCe format d’afterwork a pour objectif de : \n\n\nfédérer les adhérentes\, \n\n\ncréer un espace de sororité\, \n\n\naccueillir de nouvelles femmes\, \n\n\naborder des thématiques féministes fortes : sexualité\, santé\, carrière\, littérature\, etc.
URL:https://uniondesfemmesmartinique.com/evenement/an-ti-koze-vivre-une-sexualite-epanouie-afterwork-ufm/
LOCATION:La terrasse fwi\, Immeuble Galeries Lafayette\, 10 Rue Victor Schoelcher\, Fort-de-France\, 97200\, Martinique
ATTACH;FMTTYPE=image/jpeg:https://uniondesfemmesmartinique.com/wp-content/uploads/2025/11/visuel-def-afterwork-1.jpg
ORGANIZER;CN="Union des Femmes":MAILTO:contact@uniondesfemmes-mq.fr
END:VEVENT
BEGIN:VEVENT
DTSTART;TZID=America/Martinique:20251007T180000
DTEND;TZID=America/Martinique:20251007T180000
DTSTAMP:20260425T065728
CREATED:20251001T225346Z
LAST-MODIFIED:20251001T225346Z
UID:31122-1759860000-1759860000@uniondesfemmesmartinique.com
SUMMARY:Femmes en politique dans les années 1940 - Conférence
DESCRIPTION:Mardi 7 octobre 2025 à 18h\, mairie de Fort-de-France.\nL’Union des Femmes de Martinique organise une conférence animée par l’historienne Cécile Celma autour du premier vote féminin en Martinique et de la place des femmes en politique dans les années 1940.
URL:https://uniondesfemmesmartinique.com/evenement/femmes-en-politique-dans-les-annees-1940-conference/
LOCATION:Mairie de Fort de France\, JW4J+X64\, Bd Général de Gaulle\, Fort-de-France\, Fort de France\, 97200\, Martinique
CATEGORIES:Conférences
ATTACH;FMTTYPE=image/jpeg:https://uniondesfemmesmartinique.com/wp-content/uploads/2025/10/FLYER-CONF-FEMMES-EN-POLITIQUE-OCT-2025.jpg
END:VEVENT
BEGIN:VEVENT
DTSTART;TZID=America/Martinique:20251005T080000
DTEND;TZID=America/Martinique:20251005T110000
DTSTAMP:20260425T065728
CREATED:20251001T225735Z
LAST-MODIFIED:20251001T225735Z
UID:31127-1759651200-1759662000@uniondesfemmesmartinique.com
SUMMARY:L’égalité\, notre sport préféré ! - Stand d’information
DESCRIPTION:Dimanche 5 octobre 2025\, de 8h à 11h\, Place du 22 mai à Trinité.\nÀ l’occasion de la course « Zwel a Bawoudè »\, l’UFM tiendra un stand d’information et de sensibilisation sur les droits des femmes et l’égalité des genres.
URL:https://uniondesfemmesmartinique.com/evenement/legalite-notre-sport-prefere-stand-dinformation/
LOCATION:Place du 22 mai – Trinité
CATEGORIES:Manifestations,Sensibilisation,Sport
ATTACH;FMTTYPE=image/jpeg:https://uniondesfemmesmartinique.com/wp-content/uploads/2025/10/FLYER-STAND-ZWEL-A-BAWOUDE-05-10-25.jpg
END:VEVENT
BEGIN:VEVENT
DTSTART;VALUE=DATE:20251002
DTEND;VALUE=DATE:20251024
DTSTAMP:20260425T065728
CREATED:20251001T230133Z
LAST-MODIFIED:20251001T230331Z
UID:31131-1759363200-1761263999@uniondesfemmesmartinique.com
SUMMARY:Permanences sociales - Octobre 2025
DESCRIPTION:Du 2 au 23 octobre 2025\, dans plusieurs communes.\nLes intervenantes sociales de l’UFM assurent des permanences tout au long du mois d’octobre dans différentes communes de Martinique\, afin d’accompagner et informer le public. \nPermanences d’Intervenantes Sociales : \nOctobre 2025 – 9h à 13h \n02/10 – ROBERT – France Services du Vert-Pré \n03/10 – LES TROIS ILETS – France Services Bourg \n08/10 – CASE-PILOTE – France Services Bourg \n09/10 – VAUCLIN – France Services Bourg \n15/10 – SAINT-JOSEPH – France Services Bourg \n16/10 – MORNE-ROUGE – France Services Bourg \n17/10 – DUCOS – France Services La Cannaie \n23/10 – LE FRANCOIS – Espace Communal des Solidarités \n📞 Informations\, écoute : 0596 71 26 26 – tapez 1
URL:https://uniondesfemmesmartinique.com/evenement/permanences-sociales-octobre-2025/
CATEGORIES:Permanences
ATTACH;FMTTYPE=image/png:https://uniondesfemmesmartinique.com/wp-content/uploads/2025/10/Permanences-octobre-2025.png
END:VEVENT
BEGIN:VEVENT
DTSTART;TZID=America/Martinique:20240921T140000
DTEND;TZID=America/Martinique:20240921T150000
DTSTAMP:20260425T065728
CREATED:20240913T165343Z
LAST-MODIFIED:20240913T165820Z
UID:30198-1726927200-1726930800@uniondesfemmesmartinique.com
SUMMARY:Atelier d'écriture avec Gisèle Pineau
DESCRIPTION:Dans le cadre de notre journée littéraire “Des Mots d’Elles” célébrant le mois du matrimoine\, l’UFM te donne la possibilité de participer à un atelier d’écriture avec Gisèle Pineau\, le 21 septembre de 14h à 15h\, au 17 Rue Lamartine à Fort-de-France. \nCet atelier est entièrement gratuit et est accessible sur inscription au 0696 835 461 (envoi d’un sms). \n  \n\n\nGisèle Pineau est une auteure\, romancière et essayiste d’origine guadeloupéenne.\n\nSes écrits reflètent souvent des thèmes liés à l’identité\, à la culture créole\, aux Antilles et à la condition des femmes noires dans la société.\n\nSes œuvres explorent des sujets comme le racisme\, l’esclavage\, l’exil\, les relations familiales et la transmission culturelle. Elle met en lumière la réalité des descendants d’esclaves\, les conflits identitaires\, ainsi que les difficultés rencontrées par ceux qui naviguent entre plusieurs cultures.\n\nElle a écrit plusieurs oeuvres notables comme “La Grande Drive des esprits”\, “L’Espérance-macadam” et “L’Exil selon Julia”.\n\nGisèle Pineau est aussi reconnue pour son engagement féministe\, son travail littéraire s’inscrivant souvent dans la lutte contre les injustices sociales et raciales.\n\n\n\n\n\n  \n\n\n\n\n\n 
URL:https://uniondesfemmesmartinique.com/evenement/atelier-decriture-avec-gisele-pineau/
LOCATION:17 rue Lamartine\, Fort-de-France\, 97200\, Martinique
ATTACH;FMTTYPE=image/jpeg:https://uniondesfemmesmartinique.com/wp-content/uploads/2024/09/Atelier-decriture-Flyer-2-1-e1726246582507.jpg
ORGANIZER;CN="Union des Femmes":MAILTO:contact@uniondesfemmes-mq.fr
END:VEVENT
BEGIN:VEVENT
DTSTART;TZID=America/Martinique:20240921T133000
DTEND;TZID=America/Martinique:20240921T190000
DTSTAMP:20260425T065728
CREATED:20240913T163730Z
LAST-MODIFIED:20240913T170757Z
UID:30192-1726925400-1726945200@uniondesfemmesmartinique.com
SUMMARY:Des Mots d'Elles - Journée littéraire
DESCRIPTION:Le matrimoine\, c’est aussi celles qui font la société d’aujourd’hui ! \nDans le cadre du Mois du Matrimoine\, l’UFM a le plaisir de t’inviter à notre journée littéraire “Des Mots d’Elles” le samedi 21 septembre de 13h30 à 19h dans le cadre original de la rue piétonnisée\, au 17 rue Lamartine. \nCet événement mettra à l’honneur les œuvres et les voix de nos autrices antillaises\, célébrant leur contribution à la richesse culturelle et littéraire. \nCe sera l’occasion pour vous de rencontrer : Gisèle Pineau\, Marie Boniface\, Mapie\, Tania Lucéa\, Peggy Ebring\, Nicole Cage\, Myrlys\, Barbara Jean-Elie\, Joëlle Kabyle\, Rose Marie Taupin Pelican\, Gracienne Laurence\, Imaniyé Dalila Daniel\, Pascale Dambo\, Katy François et Kevyne Velasques ! \nVous trouverez le programme ci-dessous ! \nNous espérons vous y retrouver nombreuses et nombreux pour célébrer ensemble cet héritage culturel essentiel ! \n 
URL:https://uniondesfemmesmartinique.com/evenement/des-mots-delles-journee-litteraire/
LOCATION:17 rue Lamartine\, Fort-de-France\, 97200\, Martinique
ATTACH;FMTTYPE=image/jpeg:https://uniondesfemmesmartinique.com/wp-content/uploads/2024/09/Des-mots-delles-Flyer--e1726245537353.jpg
ORGANIZER;CN="Union des Femmes":MAILTO:contact@uniondesfemmes-mq.fr
END:VEVENT
BEGIN:VEVENT
DTSTART;VALUE=DATE:20240524
DTEND;VALUE=DATE:20240621
DTSTAMP:20260425T065728
CREATED:20240529T195636Z
LAST-MODIFIED:20240530T132455Z
UID:29138-1716508800-1718927999@uniondesfemmesmartinique.com
SUMMARY:Exposition photographique : Corps pour elles
DESCRIPTION:Plongez dans l’univers artistique engagé de Yolanda Naranjo !  \nEn utilisant l’art comme un moyen de sensibilisation\, Yolanda met en lumière les menstruations\, processus naturel du corps féminin\, victime de nombreux tabous qui ne sont pas sans conséquence sur les femmes. \nSes oeuvres vibrantes\, photographiées par Jean-Baptiste Barret\, seront exposées :  \n🗓Du 24 mai au 20 juin\n📍À la Médiathèque du Lamentin  \nRejoignez-nous pour cette exposition unique et inspirante\, où l’art devient un outil puissant pour la sensibilisation ! ✨\n🩸Ensemble\, levons les tabous sur les règles et œuvrons vers un avenir où chaque individu a accès à des ressources menstruelles adéquates et à une santé menstruelle équitable !
URL:https://uniondesfemmesmartinique.com/evenement/exposition-corps-pour-elles/
LOCATION:Médiathèque du Lamentin
CATEGORIES:Sensibilisation
ATTACH;FMTTYPE=image/jpeg:https://uniondesfemmesmartinique.com/wp-content/uploads/2024/05/Visuel-Corps-pour-elles.jpg
ORGANIZER;CN="Union des Femmes":MAILTO:contact@uniondesfemmes-mq.fr
END:VEVENT
END:VCALENDAR